BEGIN:VCALENDAR
PRODID:Nexudus
VERSION:2.0
BEGIN:VTIMEZONE
TZID:Asia/Singapore
X-LIC-LOCATION:Asia/Singapore
BEGIN:STANDARD
DTSTART:19820101T010000
RRULE:FREQ=YEARLY;BYDAY=1FR;BYMONTH=1
TZNAME:+08
TZOFFSETFROM:+0900
TZOFFSETTO:+0800
END:STANDARD
END:VTIMEZONE
BEGIN:VEVENT
DESCRIPTION:\nEvent link: https://Hubud.spaces.nexudus.com/en/events/view/7
 63781184/hubud-excursion--hubud-goes-cycling-with-sepeda-bali\n
DTEND;TZID=Asia/Singapore:20181130T180000
DTSTAMP:20260423T055247Z
DTSTART;TZID=Asia/Singapore:20181130T073000
LOCATION:Hubud
SEQUENCE:0
SUMMARY:Hubud Excursion: Hubud Goes Cycling With Sepeda Bali
UID:04acd3f5-c0c6-402f-949b-dbfcabcb3522
END:VEVENT
END:VCALENDAR
