BEGIN:VCALENDAR
PRODID:Nexudus
VERSION:2.0
BEGIN:VTIMEZONE
TZID:Asia/Singapore
X-LIC-LOCATION:Asia/Singapore
BEGIN:STANDARD
DTSTART:19820101T010000
RRULE:FREQ=YEARLY;BYDAY=1FR;BYMONTH=1
TZNAME:+08
TZOFFSETFROM:+0900
TZOFFSETTO:+0800
END:STANDARD
END:VTIMEZONE
BEGIN:VEVENT
DESCRIPTION:\nEvent link: https://Hubud.spaces.nexudus.com/en/events/view/7
 63846226/hubud-movie-night--wonder\n
DTEND;TZID=Asia/Singapore:20181119T210000
DTSTAMP:20260423T104307Z
DTSTART;TZID=Asia/Singapore:20181119T190000
LOCATION:Hubud
SEQUENCE:0
SUMMARY:Hubud Movie Night: Wonder
UID:c5554140-38e6-4b03-b2d2-d1501ed8a21c
END:VEVENT
END:VCALENDAR
