BEGIN:VCALENDAR
PRODID:Nexudus
VERSION:2.0
BEGIN:VTIMEZONE
TZID:Asia/Singapore
X-LIC-LOCATION:Asia/Singapore
BEGIN:STANDARD
DTSTART:19820101T010000
RRULE:FREQ=YEARLY;BYDAY=1FR;BYMONTH=1
TZNAME:+08
TZOFFSETFROM:+0900
TZOFFSETTO:+0800
END:STANDARD
END:VTIMEZONE
BEGIN:VEVENT
DESCRIPTION:\nEvent link: https://Hubud.spaces.nexudus.com/en/events/view/7
 74932162/bali-bungkus--appreciative-inquiry---a-perspective-on-change\n
DTEND;TZID=Asia/Singapore:20181204T133000
DTSTAMP:20260422T235239Z
DTSTART;TZID=Asia/Singapore:20181204T123000
LOCATION:Hubud
SEQUENCE:0
SUMMARY:Bali Bungkus: Appreciative Inquiry – A Perspective on Change
UID:81f9cf6a-3b30-48c2-a589-f7c6ddfd3ec4
END:VEVENT
END:VCALENDAR
