BEGIN:VCALENDAR
PRODID:Nexudus
VERSION:2.0
BEGIN:VTIMEZONE
TZID:Asia/Singapore
X-LIC-LOCATION:Asia/Singapore
BEGIN:STANDARD
DTSTART:19820101T010000
RRULE:FREQ=YEARLY;BYDAY=1FR;BYMONTH=1
TZNAME:+08
TZOFFSETFROM:+0900
TZOFFSETTO:+0800
END:STANDARD
END:VTIMEZONE
BEGIN:VEVENT
DESCRIPTION:\nEvent link: https://Hubud.spaces.nexudus.com/en/events/view/8
 14359572/skill-share--the-anatomy-of-a-miracle\n
DTEND;TZID=Asia/Singapore:20190116T133000
DTSTAMP:20260422T222341Z
DTSTART;TZID=Asia/Singapore:20190116T123000
LOCATION:Hubud
SEQUENCE:0
SUMMARY:Skill Share: The Anatomy of a Miracle
UID:e41d6760-ed45-44b9-9e2b-75569af63e78
END:VEVENT
END:VCALENDAR
