BEGIN:VCALENDAR
PRODID:Nexudus
VERSION:2.0
BEGIN:VTIMEZONE
TZID:Asia/Singapore
X-LIC-LOCATION:Asia/Singapore
BEGIN:STANDARD
DTSTART:19820101T010000
RRULE:FREQ=YEARLY;BYDAY=1FR;BYMONTH=1
TZNAME:+08
TZOFFSETFROM:+0900
TZOFFSETTO:+0800
END:STANDARD
END:VTIMEZONE
BEGIN:VEVENT
DESCRIPTION:\nEvent link: https://Hubud.spaces.nexudus.com/en/events/view/8
 18547869/social-hour--dinner-at-hubud\n
DTEND;TZID=Asia/Singapore:20190128T200000
DTSTAMP:20260423T070405Z
DTSTART;TZID=Asia/Singapore:20190128T190000
LOCATION:Hubud
SEQUENCE:0
SUMMARY:Social Hour: Dinner at Hubud
UID:357e3cc2-b5d6-4d03-a0bd-73d43ba55fdc
END:VEVENT
END:VCALENDAR
