BEGIN:VCALENDAR
PRODID:Nexudus
VERSION:2.0
BEGIN:VTIMEZONE
TZID:Asia/Singapore
X-LIC-LOCATION:Asia/Singapore
BEGIN:STANDARD
DTSTART:19820101T010000
RRULE:FREQ=YEARLY;BYDAY=1FR;BYMONTH=1
TZNAME:+08
TZOFFSETFROM:+0900
TZOFFSETTO:+0800
END:STANDARD
END:VTIMEZONE
BEGIN:VEVENT
DESCRIPTION:\nEvent link: https://Hubud.spaces.nexudus.com/en/events/view/8
 21684881/treat-yourself-thursday--yoga-at-hubud\n
DTEND;TZID=Asia/Singapore:20190124T170000
DTSTAMP:20260422T222224Z
DTSTART;TZID=Asia/Singapore:20190124T160000
LOCATION:Hubud
SEQUENCE:0
SUMMARY:Treat Yourself Thursday: Yoga at Hubud
UID:95248f0f-20a5-4ecd-bb41-66113446aa32
END:VEVENT
END:VCALENDAR
