BEGIN:VCALENDAR
PRODID:Nexudus
VERSION:2.0
BEGIN:VTIMEZONE
TZID:Asia/Singapore
X-LIC-LOCATION:Asia/Singapore
BEGIN:STANDARD
DTSTART:19820101T010000
RRULE:FREQ=YEARLY;BYDAY=1FR;BYMONTH=1
TZNAME:+08
TZOFFSETFROM:+0900
TZOFFSETTO:+0800
END:STANDARD
END:VTIMEZONE
BEGIN:VEVENT
DESCRIPTION:\nEvent link: https://Hubud.spaces.nexudus.com/en/events/view/8
 21785966/skill-share--regaining-the-motivation-to-exercise-regularly\n
DTEND;TZID=Asia/Singapore:20190123T123000
DTSTAMP:20260423T030718Z
DTSTART;TZID=Asia/Singapore:20190123T123000
LOCATION:Hubud
SEQUENCE:0
SUMMARY:Skill Share: Regaining the Motivation to Exercise Regularly
UID:c19f8300-93a0-455a-ba78-ac6afa72b42f
END:VEVENT
END:VCALENDAR
