BEGIN:VCALENDAR
PRODID:Nexudus
VERSION:2.0
BEGIN:VTIMEZONE
TZID:Asia/Singapore
X-LIC-LOCATION:Asia/Singapore
BEGIN:STANDARD
DTSTART:19820101T010000
RRULE:FREQ=YEARLY;BYDAY=1FR;BYMONTH=1
TZNAME:+08
TZOFFSETFROM:+0900
TZOFFSETTO:+0800
END:STANDARD
END:VTIMEZONE
BEGIN:VEVENT
DESCRIPTION:\nEvent link: https://Hubud.spaces.nexudus.com/en/events/view/8
 25765151/personal-development-workshop--intuitive-goals-setting\n
DTEND;TZID=Asia/Singapore:20190131T140000
DTSTAMP:20260423T025505Z
DTSTART;TZID=Asia/Singapore:20190131T123000
LOCATION:Hubud
SEQUENCE:0
SUMMARY:Personal Development Workshop: Intuitive Goals Setting
UID:2cf657f5-341b-41a8-bae1-749cb03c77b9
END:VEVENT
END:VCALENDAR
