BEGIN:VCALENDAR
PRODID:Nexudus
VERSION:2.0
BEGIN:VTIMEZONE
TZID:Asia/Singapore
X-LIC-LOCATION:Asia/Singapore
BEGIN:STANDARD
DTSTART:19820101T010000
RRULE:FREQ=YEARLY;BYDAY=1FR;BYMONTH=1
TZNAME:+08
TZOFFSETFROM:+0900
TZOFFSETTO:+0800
END:STANDARD
END:VTIMEZONE
BEGIN:VEVENT
DESCRIPTION:\nEvent link: https://Hubud.spaces.nexudus.com/en/events/view/8
 25772277/bali-bungkus--how-to-build-a-successful-b2c-business\n
DTEND;TZID=Asia/Singapore:20190130T133000
DTSTAMP:20260422T222336Z
DTSTART;TZID=Asia/Singapore:20190130T123000
LOCATION:Hubud
SEQUENCE:0
SUMMARY:Bali Bungkus: How to Build a Successful B2C Business
UID:2e9ac6a2-431d-4dfc-8ce7-b7a3131a95b0
END:VEVENT
END:VCALENDAR
