BEGIN:VCALENDAR
PRODID:Nexudus
VERSION:2.0
BEGIN:VTIMEZONE
TZID:Asia/Singapore
X-LIC-LOCATION:Asia/Singapore
BEGIN:STANDARD
DTSTART:19820101T010000
RRULE:FREQ=YEARLY;BYDAY=1FR;BYMONTH=1
TZNAME:+08
TZOFFSETFROM:+0900
TZOFFSETTO:+0800
END:STANDARD
END:VTIMEZONE
BEGIN:VEVENT
DESCRIPTION:\nEvent link: https://Hubud.spaces.nexudus.com/en/events/view/9
 11058178/bali-bungkus--remote-work-platform-hacking-for-freelancers\n
DTEND;TZID=Asia/Singapore:20190219T133000
DTSTAMP:20260423T042748Z
DTSTART;TZID=Asia/Singapore:20190219T123000
LOCATION:Hubud
SEQUENCE:0
SUMMARY:Bali Bungkus: Remote Work Platform Hacking For Freelancers
UID:5db46086-429a-46b4-898a-1be7df95bb1f
END:VEVENT
END:VCALENDAR
