BEGIN:VCALENDAR
PRODID:Nexudus
VERSION:2.0
BEGIN:VTIMEZONE
TZID:Asia/Singapore
X-LIC-LOCATION:Asia/Singapore
BEGIN:STANDARD
DTSTART:19820101T010000
RRULE:FREQ=YEARLY;BYDAY=1FR;BYMONTH=1
TZNAME:+08
TZOFFSETFROM:+0900
TZOFFSETTO:+0800
END:STANDARD
END:VTIMEZONE
BEGIN:VEVENT
DESCRIPTION:\nEvent link: https://Hubud.spaces.nexudus.com/en/events/view/9
 16924008/skill-share--wordpress\n
DTEND;TZID=Asia/Singapore:20190220T133000
DTSTAMP:20260422T221659Z
DTSTART;TZID=Asia/Singapore:20190220T123000
LOCATION:HUBUD
SEQUENCE:0
SUMMARY:Skill Share: WordPress
UID:cb3e5727-b4f4-432a-96cd-66c7713e55cb
END:VEVENT
END:VCALENDAR
