BEGIN:VCALENDAR
PRODID:Nexudus
VERSION:2.0
BEGIN:VTIMEZONE
TZID:Asia/Singapore
X-LIC-LOCATION:Asia/Singapore
BEGIN:STANDARD
DTSTART:19820101T010000
RRULE:FREQ=YEARLY;BYDAY=1FR;BYMONTH=1
TZNAME:+08
TZOFFSETFROM:+0900
TZOFFSETTO:+0800
END:STANDARD
END:VTIMEZONE
BEGIN:VEVENT
DESCRIPTION:\nEvent link: https://Hubud.spaces.nexudus.com/en/events/view/9
 22019173/skill-share--slacklining\n
DTEND;TZID=Asia/Singapore:20190227T133000
DTSTAMP:20260424T021120Z
DTSTART;TZID=Asia/Singapore:20190227T123000
LOCATION:Hubud
SEQUENCE:0
SUMMARY:Skill Share: Slacklining
UID:b0a393be-08d1-4aa5-a1a3-8e307934cd65
END:VEVENT
END:VCALENDAR
