BEGIN:VCALENDAR
PRODID:Nexudus
VERSION:2.0
BEGIN:VTIMEZONE
TZID:Asia/Singapore
X-LIC-LOCATION:Asia/Singapore
BEGIN:STANDARD
DTSTART:19820101T010000
RRULE:FREQ=YEARLY;BYDAY=1FR;BYMONTH=1
TZNAME:+08
TZOFFSETFROM:+0900
TZOFFSETTO:+0800
END:STANDARD
END:VTIMEZONE
BEGIN:VEVENT
DESCRIPTION:\nEvent link: https://Hubud.spaces.nexudus.com/en/events/view/9
 30501579/bali-bungkus--demystifying-programming\n
DTEND;TZID=Asia/Singapore:20190313T140000
DTSTAMP:20260423T012740Z
DTSTART;TZID=Asia/Singapore:20190313T123000
LOCATION:Hubud
SEQUENCE:0
SUMMARY:Bali Bungkus: Demystifying Programming
UID:9889f9f4-f363-43ea-800c-6d2a153f5d41
END:VEVENT
END:VCALENDAR
