BEGIN:VCALENDAR
PRODID:Nexudus
VERSION:2.0
BEGIN:VTIMEZONE
TZID:Asia/Singapore
X-LIC-LOCATION:Asia/Singapore
BEGIN:STANDARD
DTSTART:19820101T010000
RRULE:FREQ=YEARLY;BYDAY=1FR;BYMONTH=1
TZNAME:+08
TZOFFSETFROM:+0900
TZOFFSETTO:+0800
END:STANDARD
END:VTIMEZONE
BEGIN:VEVENT
DESCRIPTION:\nEvent link: https://Hubud.spaces.nexudus.com/en/events/view/9
 34548615/hubud-social-hour--kantin-lunch\n
DTEND;TZID=Asia/Singapore:20190208T133000
DTSTAMP:20260424T044611Z
DTSTART;TZID=Asia/Singapore:20190208T123000
LOCATION:Hubud
SEQUENCE:0
SUMMARY:Hubud Social Hour: Kantin Lunch
UID:bd71c6b9-f540-4c8c-b306-95d3f8964325
END:VEVENT
END:VCALENDAR
