BEGIN:VCALENDAR
PRODID:Nexudus
VERSION:2.0
BEGIN:VTIMEZONE
TZID:Asia/Singapore
X-LIC-LOCATION:Asia/Singapore
BEGIN:STANDARD
DTSTART:19820101T010000
RRULE:FREQ=YEARLY;BYDAY=1FR;BYMONTH=1
TZNAME:+08
TZOFFSETFROM:+0900
TZOFFSETTO:+0800
END:STANDARD
END:VTIMEZONE
BEGIN:VEVENT
DESCRIPTION:\nEvent link: https://Hubud.spaces.nexudus.com/en/events/view/9
 64138179/skill-share--expand-your-business-to-the-us--immigration-101-\n
DTEND;TZID=Asia/Singapore:20190410T183000
DTSTAMP:20260422T222251Z
DTSTART;TZID=Asia/Singapore:20190410T173000
LOCATION:Hubud
SEQUENCE:0
SUMMARY:Skill Share: Expand your Business to the US (Immigration 101)
UID:52931d0c-1248-4641-b420-4c784588f62e
END:VEVENT
END:VCALENDAR
