BEGIN:VCALENDAR
PRODID:Nexudus
VERSION:2.0
BEGIN:VTIMEZONE
TZID:Asia/Singapore
X-LIC-LOCATION:Asia/Singapore
BEGIN:STANDARD
DTSTART:19820101T010000
RRULE:FREQ=YEARLY;BYDAY=1FR;BYMONTH=1
TZNAME:+08
TZOFFSETFROM:+0900
TZOFFSETTO:+0800
END:STANDARD
END:VTIMEZONE
BEGIN:VEVENT
DESCRIPTION:\nEvent link: https://Hubud.spaces.nexudus.com/en/events/view/9
 88032051/hubud-creative-hour--painting-with-geed-pt-3\n
DTEND;TZID=Asia/Singapore:20190419T170000
DTSTAMP:20260423T012726Z
DTSTART;TZID=Asia/Singapore:20190419T140000
LOCATION:Hubud
SEQUENCE:0
SUMMARY:Hubud Creative Hour: Painting with Geed Pt.3
UID:0b0f1c4f-f61a-4dc7-a7dd-5304f5d9677e
END:VEVENT
END:VCALENDAR
