BEGIN:VCALENDAR
PRODID:Nexudus
VERSION:2.0
BEGIN:VTIMEZONE
TZID:Asia/Singapore
X-LIC-LOCATION:Asia/Singapore
BEGIN:STANDARD
DTSTART:19820101T010000
RRULE:FREQ=YEARLY;BYDAY=1FR;BYMONTH=1
TZNAME:+08
TZOFFSETFROM:+0900
TZOFFSETTO:+0800
END:STANDARD
END:VTIMEZONE
BEGIN:VEVENT
DESCRIPTION:\nEvent link: https://Hubud.spaces.nexudus.com/en/events/view/1
 026728712/skill-share--how-to-calm-our-monkey-mind\n
DTEND;TZID=Asia/Singapore:20190528T183000
DTSTAMP:20260422T222233Z
DTSTART;TZID=Asia/Singapore:20190528T173000
LOCATION:Hubud
SEQUENCE:0
SUMMARY:Skill Share: How to Calm our Monkey Mind
UID:57c36f50-4243-4048-b727-09cc377a69dc
END:VEVENT
END:VCALENDAR
