BEGIN:VCALENDAR
PRODID:Nexudus
VERSION:2.0
BEGIN:VTIMEZONE
TZID:Asia/Singapore
X-LIC-LOCATION:Asia/Singapore
BEGIN:STANDARD
DTSTART:19820101T010000
RRULE:FREQ=YEARLY;BYDAY=1FR;BYMONTH=1
TZNAME:+08
TZOFFSETFROM:+0900
TZOFFSETTO:+0800
END:STANDARD
END:VTIMEZONE
BEGIN:VEVENT
DESCRIPTION:\nEvent link: https://Hubud.spaces.nexudus.com/en/events/view/1
 067990926/skill-share--self-publishing-crash-course\n
DTEND;TZID=Asia/Singapore:20190625T183000
DTSTAMP:20260422T222115Z
DTSTART;TZID=Asia/Singapore:20190625T173000
LOCATION:Hubud
SEQUENCE:0
SUMMARY:Skill Share: Self-Publishing Crash Course
UID:dabed6a6-b036-4c13-b8a8-1ae8a9581460
END:VEVENT
END:VCALENDAR
