BEGIN:VCALENDAR
PRODID:Nexudus
VERSION:2.0
BEGIN:VTIMEZONE
TZID:Asia/Singapore
X-LIC-LOCATION:Asia/Singapore
BEGIN:STANDARD
DTSTART:19820101T010000
RRULE:FREQ=YEARLY;BYDAY=1FR;BYMONTH=1
TZNAME:+08
TZOFFSETFROM:+0900
TZOFFSETTO:+0800
END:STANDARD
END:VTIMEZONE
BEGIN:VEVENT
DESCRIPTION:\nEvent link: https://Hubud.spaces.nexudus.com/en/events/view/1
 118937822/skill-share--the-data-journey\n
DTEND;TZID=Asia/Singapore:20190806T183000
DTSTAMP:20260423T011336Z
DTSTART;TZID=Asia/Singapore:20190806T173000
LOCATION:Hubud
SEQUENCE:0
SUMMARY:Skill Share: The Data Journey
UID:8d1b770b-07f4-4f26-ae28-a74a23693874
END:VEVENT
END:VCALENDAR
