BEGIN:VCALENDAR
PRODID:Nexudus
VERSION:2.0
BEGIN:VTIMEZONE
TZID:Asia/Singapore
X-LIC-LOCATION:Asia/Singapore
BEGIN:STANDARD
DTSTART:19820101T010000
RRULE:FREQ=YEARLY;BYDAY=1FR;BYMONTH=1
TZNAME:+08
TZOFFSETFROM:+0900
TZOFFSETTO:+0800
END:STANDARD
END:VTIMEZONE
BEGIN:VEVENT
DESCRIPTION:\nEvent link: https://Hubud.spaces.nexudus.com/en/events/view/1
 124115005/skill-share--building-empathy-in-entrepreneurship\n
DTEND;TZID=Asia/Singapore:20190805T183000
DTSTAMP:20260422T222248Z
DTSTART;TZID=Asia/Singapore:20190805T173000
LOCATION:Hubud
SEQUENCE:0
SUMMARY:Skill Share: Building Empathy in Entrepreneurship
UID:036752ab-77fc-4c01-a2b7-9194b52dc3f7
END:VEVENT
END:VCALENDAR
