BEGIN:VCALENDAR
PRODID:Nexudus
VERSION:2.0
BEGIN:VTIMEZONE
TZID:Asia/Singapore
X-LIC-LOCATION:Asia/Singapore
BEGIN:STANDARD
DTSTART:19820101T010000
RRULE:FREQ=YEARLY;BYDAY=1FR;BYMONTH=1
TZNAME:+08
TZOFFSETFROM:+0900
TZOFFSETTO:+0800
END:STANDARD
END:VTIMEZONE
BEGIN:VEVENT
DESCRIPTION:\nEvent link: https://Hubud.spaces.nexudus.com/en/events/view/1
 128389297/how-to-sell-like-a-boss\n
DTEND;TZID=Asia/Singapore:20190819T183000
DTSTAMP:20260423T012751Z
DTSTART;TZID=Asia/Singapore:20190819T173000
LOCATION:Hubud
SEQUENCE:0
SUMMARY:How To Sell Like A Boss
UID:9d057167-c13a-43b4-81f8-11aaa479c413
END:VEVENT
END:VCALENDAR
