BEGIN:VCALENDAR
PRODID:Nexudus
VERSION:2.0
BEGIN:VTIMEZONE
TZID:Asia/Singapore
X-LIC-LOCATION:Asia/Singapore
BEGIN:STANDARD
DTSTART:19820101T010000
RRULE:FREQ=YEARLY;BYDAY=1FR;BYMONTH=1
TZNAME:+08
TZOFFSETFROM:+0900
TZOFFSETTO:+0800
END:STANDARD
END:VTIMEZONE
BEGIN:VEVENT
DESCRIPTION:\nEvent link: https://Hubud.spaces.nexudus.com/en/events/view/1
 133147076/how-music-improves-life\n
DTEND;TZID=Asia/Singapore:20190828T183000
DTSTAMP:20260422T222122Z
DTSTART;TZID=Asia/Singapore:20190828T173000
LOCATION:Hubud
SEQUENCE:0
SUMMARY:How Music Improves Life
UID:aaf39d7f-47c5-4962-ae3a-33dfccb0b5fe
END:VEVENT
END:VCALENDAR
