BEGIN:VCALENDAR
PRODID:Nexudus
VERSION:2.0
BEGIN:VTIMEZONE
TZID:Asia/Singapore
X-LIC-LOCATION:Asia/Singapore
BEGIN:STANDARD
DTSTART:19820101T010000
RRULE:FREQ=YEARLY;BYDAY=1FR;BYMONTH=1
TZNAME:+08
TZOFFSETFROM:+0900
TZOFFSETTO:+0800
END:STANDARD
END:VTIMEZONE
BEGIN:VEVENT
DESCRIPTION:\nEvent link: https://Hubud.spaces.nexudus.com/en/events/view/1
 152151046/the-history-of-human-potential-and-purpose\n
DTEND;TZID=Asia/Singapore:20190925T183000
DTSTAMP:20260423T000318Z
DTSTART;TZID=Asia/Singapore:20190925T173000
LOCATION:Hubud
SEQUENCE:0
SUMMARY:The History of Human Potential and Purpose
UID:affa187c-0a96-4f72-9bd8-0db831a3ce48
END:VEVENT
END:VCALENDAR
