BEGIN:VCALENDAR
PRODID:Nexudus
VERSION:2.0
BEGIN:VTIMEZONE
TZID:Asia/Singapore
X-LIC-LOCATION:Asia/Singapore
BEGIN:STANDARD
DTSTART:19820101T010000
RRULE:FREQ=YEARLY;BYDAY=1FR;BYMONTH=1
TZNAME:+08
TZOFFSETFROM:+0900
TZOFFSETTO:+0800
END:STANDARD
END:VTIMEZONE
BEGIN:VEVENT
DESCRIPTION:\nEvent link: https://Hubud.spaces.nexudus.com/en/events/view/1
 207681489/how-to-attract-your-tribe\n
DTEND;TZID=Asia/Singapore:20191211T183000
DTSTAMP:20260422T222119Z
DTSTART;TZID=Asia/Singapore:20191211T173000
LOCATION:Hubud
SEQUENCE:0
SUMMARY:How to Attract Your Tribe
UID:75dd2c9e-d03e-49d6-862d-fe2f849b87b9
END:VEVENT
END:VCALENDAR
