BEGIN:VCALENDAR
PRODID:Nexudus
VERSION:2.0
BEGIN:VTIMEZONE
TZID:Asia/Singapore
X-LIC-LOCATION:Asia/Singapore
BEGIN:STANDARD
DTSTART:19820101T010000
RRULE:FREQ=YEARLY;BYDAY=1FR;BYMONTH=1
TZNAME:+08
TZOFFSETFROM:+0900
TZOFFSETTO:+0800
END:STANDARD
END:VTIMEZONE
BEGIN:VEVENT
DESCRIPTION:\nEvent link: https://Hubud.spaces.nexudus.com/en/events/view/1
 231821688/balinese-culture-101\n
DTEND;TZID=Asia/Singapore:20200115T183000
DTSTAMP:20260422T222252Z
DTSTART;TZID=Asia/Singapore:20200115T173000
LOCATION:Hubud
SEQUENCE:0
SUMMARY:Balinese Culture 101
UID:e0be9f66-925a-425c-a475-5a2e98004785
END:VEVENT
END:VCALENDAR
