BEGIN:VCALENDAR
PRODID:Nexudus
VERSION:2.0
BEGIN:VTIMEZONE
TZID:Asia/Singapore
X-LIC-LOCATION:Asia/Singapore
BEGIN:STANDARD
DTSTART:19820101T010000
RRULE:FREQ=YEARLY;BYDAY=1FR;BYMONTH=1
TZNAME:+08
TZOFFSETFROM:+0900
TZOFFSETTO:+0800
END:STANDARD
END:VTIMEZONE
BEGIN:VEVENT
DESCRIPTION: Using Video as a Force For Good\nEvent link: https://Hubud.spa
 ces.nexudus.com/en/events/view/230951755/hubud-filmmakers-meet-up\n
DTEND;TZID=Asia/Singapore:20160831T210000
DTSTAMP:20260425T225506Z
DTSTART;TZID=Asia/Singapore:20160831T190000
LOCATION:Hubud 
SEQUENCE:0
SUMMARY:Hubud Filmmakers Meet-Up
UID:e758b69f-afa8-4a07-8691-56f6b6e5b5b1
END:VEVENT
END:VCALENDAR
