BEGIN:VCALENDAR
PRODID:Nexudus
VERSION:2.0
BEGIN:VTIMEZONE
TZID:Asia/Singapore
X-LIC-LOCATION:Asia/Singapore
BEGIN:STANDARD
DTSTART:19820101T010000
RRULE:FREQ=YEARLY;BYDAY=1FR;BYMONTH=1
TZNAME:+08
TZOFFSETFROM:+0900
TZOFFSETTO:+0800
END:STANDARD
END:VTIMEZONE
BEGIN:VEVENT
DESCRIPTION:Come see the Bali you have been waiting to see!\nEvent link: ht
 tps://Hubud.spaces.nexudus.com/en/events/view/230951759/hubud-excursion-to
 -west-bali\n
DTEND;TZID=Asia/Singapore:20160903T200000
DTSTAMP:20260425T225741Z
DTSTART;TZID=Asia/Singapore:20160903T070000
LOCATION:West Bali 
SEQUENCE:0
SUMMARY:Hubud Excursion to West Bali
UID:f1b02536-b298-4cb4-acc8-3648534951db
END:VEVENT
END:VCALENDAR
