BEGIN:VCALENDAR
PRODID:Nexudus
VERSION:2.0
BEGIN:VTIMEZONE
TZID:Asia/Singapore
X-LIC-LOCATION:Asia/Singapore
BEGIN:STANDARD
DTSTART:19820101T010000
RRULE:FREQ=YEARLY;BYDAY=1FR;BYMONTH=1
TZNAME:+08
TZOFFSETFROM:+0900
TZOFFSETTO:+0800
END:STANDARD
END:VTIMEZONE
BEGIN:VEVENT
DESCRIPTION:This is a Bali Bungkus Trial about how to create events in Nexu
 dus\nEvent link: https://Hubud.spaces.nexudus.com/en/events/view/579672097
 /bali-bungkus-trial-1\n
DTEND;TZID=Asia/Singapore:20180330T133000
DTSTAMP:20260422T222056Z
DTSTART;TZID=Asia/Singapore:20180330T123000
LOCATION:Hubud
SEQUENCE:0
SUMMARY:Bali Bungkus Trial 1
UID:69d73aa6-915b-41ac-a595-070c7f689111
END:VEVENT
END:VCALENDAR
