BEGIN:VCALENDAR
PRODID:Nexudus
VERSION:2.0
BEGIN:VTIMEZONE
TZID:Asia/Singapore
X-LIC-LOCATION:Asia/Singapore
BEGIN:STANDARD
DTSTART:19820101T010000
RRULE:FREQ=YEARLY;BYDAY=1FR;BYMONTH=1
TZNAME:+08
TZOFFSETFROM:+0900
TZOFFSETTO:+0800
END:STANDARD
END:VTIMEZONE
BEGIN:VEVENT
DESCRIPTION:\nEvent link: https://Hubud.spaces.nexudus.com/en/events/view/6
 07592301/bali-bungkus--amazon-ecommerce-101\n
DTEND;TZID=Asia/Singapore:20180517T133000
DTSTAMP:20260423T025932Z
DTSTART;TZID=Asia/Singapore:20180517T123000
LOCATION:Hubud: Ubud Coworking Community Space
SEQUENCE:0
SUMMARY:Bali Bungkus: Amazon Ecommerce 101
UID:8da3e6b5-b0ce-4206-b902-82cdd890129b
END:VEVENT
END:VCALENDAR
