BEGIN:VCALENDAR
PRODID:Nexudus
VERSION:2.0
BEGIN:VTIMEZONE
TZID:Asia/Singapore
X-LIC-LOCATION:Asia/Singapore
BEGIN:STANDARD
DTSTART:19820101T010000
RRULE:FREQ=YEARLY;BYDAY=1FR;BYMONTH=1
TZNAME:+08
TZOFFSETFROM:+0900
TZOFFSETTO:+0800
END:STANDARD
END:VTIMEZONE
BEGIN:VEVENT
DESCRIPTION:\nEvent link: https://Hubud.spaces.nexudus.com/en/events/view/6
 27844225/bali-bungkus--messenger-marketing\n
DTEND;TZID=Asia/Singapore:20180614T133000
DTSTAMP:20260425T212556Z
DTSTART;TZID=Asia/Singapore:20180614T123000
LOCATION:Hubud
SEQUENCE:0
SUMMARY:Bali Bungkus: Messenger Marketing
UID:cafb3c09-09f4-4474-b750-5b43c2b6f781
END:VEVENT
END:VCALENDAR
