BEGIN:VCALENDAR
PRODID:Nexudus
VERSION:2.0
BEGIN:VTIMEZONE
TZID:Asia/Singapore
X-LIC-LOCATION:Asia/Singapore
BEGIN:STANDARD
DTSTART:19820101T010000
RRULE:FREQ=YEARLY;BYDAY=1FR;BYMONTH=1
TZNAME:+08
TZOFFSETFROM:+0900
TZOFFSETTO:+0800
END:STANDARD
END:VTIMEZONE
BEGIN:VEVENT
DESCRIPTION:This event is OPEN TO THE PUBLIC!\n\nWe know\, Monday is always
  a busy day. But because we love you so much\, we decided that at least di
 nner doesn't have to be a Monday-problem. We're bringing it directly to Hu
 bud just for you! \n\nThe cost will be IDR 50\,000 per person. Spots are l
 imited (20 pax only) so RSVP to rsvp@Hubud.org as soon as possible!\nEvent
  link: https://Hubud.spaces.nexudus.com/en/events/view/639481896/dinner-at
 -hubud\n
DTEND;TZID=Asia/Singapore:20180723T210000
DTSTAMP:20260423T115501Z
DTSTART;TZID=Asia/Singapore:20180723T190000
LOCATION:Hubud
SEQUENCE:0
SUMMARY:Dinner At Hubud
UID:514fc017-9199-4115-81ed-c5d528ed1bf4
END:VEVENT
END:VCALENDAR
