BEGIN:VCALENDAR
PRODID:Nexudus
VERSION:2.0
BEGIN:VTIMEZONE
TZID:Asia/Singapore
X-LIC-LOCATION:Asia/Singapore
BEGIN:STANDARD
DTSTART:19820101T010000
RRULE:FREQ=YEARLY;BYDAY=1FR;BYMONTH=1
TZNAME:+08
TZOFFSETFROM:+0900
TZOFFSETTO:+0800
END:STANDARD
END:VTIMEZONE
BEGIN:VEVENT
DESCRIPTION:\nEvent link: https://Hubud.spaces.nexudus.com/en/events/view/6
 39481903/hubud-movie-night\n
DTEND;TZID=Asia/Singapore:20180910T210000
DTSTAMP:20260423T092649Z
DTSTART;TZID=Asia/Singapore:20180910T190000
LOCATION:Hubud
SEQUENCE:0
SUMMARY:Hubud Movie Night
UID:a5d6f0b7-f981-409a-8cc4-f194efc6384c
END:VEVENT
END:VCALENDAR
