BEGIN:VCALENDAR
PRODID:Nexudus
VERSION:2.0
BEGIN:VTIMEZONE
TZID:Asia/Singapore
X-LIC-LOCATION:Asia/Singapore
BEGIN:STANDARD
DTSTART:19820101T010000
RRULE:FREQ=YEARLY;BYDAY=1FR;BYMONTH=1
TZNAME:+08
TZOFFSETFROM:+0900
TZOFFSETTO:+0800
END:STANDARD
END:VTIMEZONE
BEGIN:VEVENT
DESCRIPTION:\nEvent link: https://Hubud.spaces.nexudus.com/en/events/view/6
 44511868/pechakucha-night-ubud-36\n
DTEND;TZID=Asia/Singapore:20180710T210000
DTSTAMP:20260422T235352Z
DTSTART;TZID=Asia/Singapore:20180710T193000
LOCATION:Betelnut Bali\, Ubud.
SEQUENCE:0
SUMMARY:PechaKucha Night Ubud 36
UID:f6f24022-6d4b-41c5-b6e3-bae268181fad
END:VEVENT
END:VCALENDAR
