BEGIN:VCALENDAR
PRODID:Nexudus
VERSION:2.0
BEGIN:VTIMEZONE
TZID:Asia/Singapore
X-LIC-LOCATION:Asia/Singapore
BEGIN:STANDARD
DTSTART:19820101T010000
RRULE:FREQ=YEARLY;BYDAY=1FR;BYMONTH=1
TZNAME:+08
TZOFFSETFROM:+0900
TZOFFSETTO:+0800
END:STANDARD
END:VTIMEZONE
BEGIN:VEVENT
DESCRIPTION:\nEvent link: https://Hubud.spaces.nexudus.com/en/events/view/6
 53517916/entrepreneurial-think-thank--freedombox\n
DTEND;TZID=Asia/Singapore:20180718T133000
DTSTAMP:20260422T222115Z
DTSTART;TZID=Asia/Singapore:20180718T123000
LOCATION:Hubud
SEQUENCE:0
SUMMARY:Entrepreneurial Think Thank: FreedomBox
UID:4f1ef1bb-bff3-4a46-a164-3985a6c23ab2
END:VEVENT
END:VCALENDAR
