BEGIN:VCALENDAR
PRODID:Nexudus
VERSION:2.0
BEGIN:VTIMEZONE
TZID:Asia/Singapore
X-LIC-LOCATION:Asia/Singapore
BEGIN:STANDARD
DTSTART:19820101T010000
RRULE:FREQ=YEARLY;BYDAY=1FR;BYMONTH=1
TZNAME:+08
TZOFFSETFROM:+0900
TZOFFSETTO:+0800
END:STANDARD
END:VTIMEZONE
BEGIN:VEVENT
DESCRIPTION:\nEvent link: https://Hubud.spaces.nexudus.com/en/events/view/6
 53517929/mac-doctor-in-house\n
DTEND;TZID=Asia/Singapore:20180712T120000
DTSTAMP:20260423T030647Z
DTSTART;TZID=Asia/Singapore:20180725T100000
LOCATION:Hubud
SEQUENCE:0
SUMMARY:Mac Doctor In House
UID:c443c945-edfd-48f1-9eb6-9af9b72012ee
END:VEVENT
END:VCALENDAR
