BEGIN:VCALENDAR
PRODID:Nexudus
VERSION:2.0
BEGIN:VTIMEZONE
TZID:Asia/Singapore
X-LIC-LOCATION:Asia/Singapore
BEGIN:STANDARD
DTSTART:19820101T010000
RRULE:FREQ=YEARLY;BYDAY=1FR;BYMONTH=1
TZNAME:+08
TZOFFSETFROM:+0900
TZOFFSETTO:+0800
END:STANDARD
END:VTIMEZONE
BEGIN:VEVENT
DESCRIPTION:This event is OPEN TO THE PUBLIC!\n\nN.B. this event will start
  at 12PM\, half an hour before our usual schedule!\n\n\nUnleash your Femin
 ine Power: Things Sexy\, Confident & Powerful People Do\n\nGiving away you
 r power is a hard truth to swallow\, but so is surrendering to a life that
  leaves you unhappy\, unsatisfied\, anxious\, depressed and feeling like y
 ou're constantly drained and powerless. \nIt’s time to take life by the 
 horns. Summon your strength\, reclaim your worth and step into your power.
  \n\nDeep down you know you are meant for more\; it’s time to make the r
 est of your life your best life and unleash the power from within.\n\n" Wh
 en your life is on course with its purpose\, you are the most powerful." -
  Oprah \n\nWhy you should attend this talk:\n- Release the number #1 thing
  that is blocking you from standing in your full power \n- Learn things se
 xy\, confident\, & powerful people do\n- See who you are when you're givin
 g your power away\n- See who you are when you're in your full glory & powe
 r\n- Learn how to step up fearlessly and take life by the horns \n\nAbout 
 the speaker:\nAlisa Arvind is a Success Coach\, Spiritual Mentor\, White H
 ouse Presidential Journalist\, International Speaker\, Healer\, and Intuit
 ive. She was the only journalist with under 3 years of experience to repor
 t and travel overseas as part of the White House press corps during the Ob
 ama administration.\nAlisa is now dedicated to helping people build unshak
 able confidence\, become the most powerful version of themselves and live 
 a life they are in love and obsessed with. \nShe strives towards this by c
 ombining effective strategies with cutting-edge mindset tools\, energy hea
 ling & a combination of intuitive insight counseling.\nEvent link: https:/
 /Hubud.spaces.nexudus.com/en/events/view/653665070/skill-share--unleash-yo
 ur-feminine-power\n
DTEND;TZID=Asia/Singapore:20180717T133000
DTSTAMP:20260425T162303Z
DTSTART;TZID=Asia/Singapore:20180717T120000
LOCATION:Hubud
SEQUENCE:0
SUMMARY:Skill Share: Unleash Your Feminine Power
UID:89c02636-8b68-4804-9250-59a7a967f45a
END:VEVENT
END:VCALENDAR
