BEGIN:VCALENDAR
PRODID:Nexudus
VERSION:2.0
BEGIN:VTIMEZONE
TZID:Asia/Singapore
X-LIC-LOCATION:Asia/Singapore
BEGIN:STANDARD
DTSTART:19820101T010000
RRULE:FREQ=YEARLY;BYDAY=1FR;BYMONTH=1
TZNAME:+08
TZOFFSETFROM:+0900
TZOFFSETTO:+0800
END:STANDARD
END:VTIMEZONE
BEGIN:VEVENT
DESCRIPTION:This event is for members only. Find out more about membership 
 (including Events Only membership) at https://www.hubud.org/join/\n\nThe p
 roject has been created by Sitraka in March 2018: LeaveNoTrash is a Zero W
 aste Travel guide\, but not exclusively. Sitraka is sharing her personal e
 xperiences and findings with easy and useful tips on how to leave no trash
  behind you (at least less trash) when travelling. Sitraka’s vision is t
 o publish Zero Waste and Eco Travel guides. She also wants to inspire peop
 le with beautiful stories of change-makers working towards Zero Waste in t
 heir hometowns. And most importantly\, she wants to build a "leave no tras
 h" community and bring awareness\, in a positive way\, on how our health a
 nd the places we visit are impacted by our travel behaviors. For that reas
 on\, Sitraka started delivering talks and skill shares about Zero Waste tr
 avelling. \nLeaveNoTrash’s motto is “Travel global\, Act local”: we 
 can wander globally and be conscious of the environmental footprints we le
 ave behind.\n\nSitraka needs help with:\n- social media strategies: how to
  get the most out of the social medias? How to reach out to more people? H
 ow to keep them engaged?\n- content: how to deliver attractive messages ab
 out Zero Waste that can be perceived as a “serious” and challenging to
 pic? \n- look and feel: how to make the blog more interactive?\n- ideas: a
 ny other inputs to improve the blog’s contents and visibility\, and the 
 activities around LeaveNoTrash (besides the talks)\n\nFor (but not only):\
 n- everyone who wants to contribute to the LeaveNoTrash adventure\, who lo
 ves to travel\, who has a creative soul\, who wants to give back and who w
 ants a better planet\n- social media savvy\n- bloggers with SEO expertise\
 , but not exclusively\n- communications wizards\n- graphic designers\, UI/
 UX designers\n- videographers\nEvent link: https://Hubud.spaces.nexudus.co
 m/en/events/view/658048484/entrepreneurial-think-thank--leaveno-trash\n
DTEND;TZID=Asia/Singapore:20180730T133000
DTSTAMP:20260422T235135Z
DTSTART;TZID=Asia/Singapore:20180730T123000
LOCATION:Hubud
SEQUENCE:0
SUMMARY:Entrepreneurial Think Thank: LeaveNo Trash
UID:f5ba10aa-c66a-4b3c-9945-0b86eb50317d
END:VEVENT
END:VCALENDAR
