BEGIN:VCALENDAR
PRODID:Nexudus
VERSION:2.0
BEGIN:VTIMEZONE
TZID:Asia/Singapore
X-LIC-LOCATION:Asia/Singapore
BEGIN:STANDARD
DTSTART:19820101T010000
RRULE:FREQ=YEARLY;BYDAY=1FR;BYMONTH=1
TZNAME:+08
TZOFFSETFROM:+0900
TZOFFSETTO:+0800
END:STANDARD
END:VTIMEZONE
BEGIN:VEVENT
DESCRIPTION:This event is open to the public!\n\n★ SAVE THE DATE: MONDAY\
 , 30 JULY 2018\n★★ OPEN TO PUBLIC\n★★★ FREE SCREENING AT HUBUD\n
 \nThere will be a buffet dinner for only 50.000 rupiahs! Enjoy the movie w
 ithout feeling in a rush to grab your food afterwards\, it's already there
 ! \n\nChris Gardner is a bright and talented\, but marginally employed sal
 esman. Struggling to make ends meet\, Gardner finds himself and his five-y
 ear-old son evicted from their San Francisco apartment with nowhere to go.
  When Gardner lands an internship at a prestigious stock brokerage firm\, 
 he and his son endure many hardships\, including living in shelters\, in p
 ursuit of his dream of a better life for the two of them.\n\nNot only we'l
 l watch the movie\, but there will be an open discussion after the screeni
 ng.\nEvent link: https://Hubud.spaces.nexudus.com/en/events/view/663806147
 /hubud-movie-night--the-pursuit-of-happyness\n
DTEND;TZID=Asia/Singapore:20180725T210000
DTSTAMP:20260423T120122Z
DTSTART;TZID=Asia/Singapore:20180730T190000
LOCATION:Hubud
SEQUENCE:0
SUMMARY:Hubud Movie Night: The Pursuit of Happyness
UID:328a5d50-8f82-4091-b2dc-1ec758bad3d3
END:VEVENT
END:VCALENDAR
