BEGIN:VCALENDAR
PRODID:Nexudus
VERSION:2.0
BEGIN:VTIMEZONE
TZID:Asia/Singapore
X-LIC-LOCATION:Asia/Singapore
BEGIN:STANDARD
DTSTART:19820101T010000
RRULE:FREQ=YEARLY;BYDAY=1FR;BYMONTH=1
TZNAME:+08
TZOFFSETFROM:+0900
TZOFFSETTO:+0800
END:STANDARD
END:VTIMEZONE
BEGIN:VEVENT
DESCRIPTION:\nEvent link: https://Hubud.spaces.nexudus.com/en/events/view/6
 97353684/bali-bungkus--intro-to-facebook-ads\n
DTEND;TZID=Asia/Singapore:20180911T133000
DTSTAMP:20260422T221938Z
DTSTART;TZID=Asia/Singapore:20180911T123000
LOCATION:Hubud
SEQUENCE:0
SUMMARY:Bali Bungkus: Intro to Facebook Ads
UID:e4b39bec-78fd-4465-bde5-c021e2d8e3d4
END:VEVENT
END:VCALENDAR
