BEGIN:VCALENDAR
PRODID:Nexudus
VERSION:2.0
BEGIN:VTIMEZONE
TZID:Asia/Singapore
X-LIC-LOCATION:Asia/Singapore
BEGIN:STANDARD
DTSTART:19820101T010000
RRULE:FREQ=YEARLY;BYDAY=1FR;BYMONTH=1
TZNAME:+08
TZOFFSETFROM:+0900
TZOFFSETTO:+0800
END:STANDARD
END:VTIMEZONE
BEGIN:VEVENT
DESCRIPTION:\nEvent link: https://Hubud.spaces.nexudus.com/en/events/view/7
 14558252/photographer-meet-up---creative-media-special\n
DTEND;TZID=Asia/Singapore:20181004T220000
DTSTAMP:20260424T232500Z
DTSTART;TZID=Asia/Singapore:20181004T190000
LOCATION:Hubud
SEQUENCE:0
SUMMARY:Photographer Meet-Up – Creative Media Special
UID:e2b3e8f5-5190-41f6-b19b-3f13d361938a
END:VEVENT
END:VCALENDAR
