BEGIN:VCALENDAR
PRODID:Nexudus
VERSION:2.0
BEGIN:VTIMEZONE
TZID:Asia/Singapore
X-LIC-LOCATION:Asia/Singapore
BEGIN:STANDARD
DTSTART:19820101T010000
RRULE:FREQ=YEARLY;BYDAY=1FR;BYMONTH=1
TZNAME:+08
TZOFFSETFROM:+0900
TZOFFSETTO:+0800
END:STANDARD
END:VTIMEZONE
BEGIN:VEVENT
DESCRIPTION:\nEvent link: https://Hubud.spaces.nexudus.com/en/events/view/7
 27489763/hubud-social-hour--ubud-beer-pong-tournament-vol--9\n
DTEND;TZID=Asia/Singapore:20181012T220000
DTSTAMP:20260422T222115Z
DTSTART;TZID=Asia/Singapore:20181012T190000
LOCATION:Hubud
SEQUENCE:0
SUMMARY:Hubud Social Hour: Ubud Beer Pong Tournament vol. 9
UID:fb1d4535-85cb-42c7-a595-8092869cc9c6
END:VEVENT
END:VCALENDAR
