BEGIN:VCALENDAR
PRODID:Nexudus
VERSION:2.0
BEGIN:VTIMEZONE
TZID:Asia/Singapore
X-LIC-LOCATION:Asia/Singapore
BEGIN:STANDARD
DTSTART:19820101T010000
RRULE:FREQ=YEARLY;BYDAY=1FR;BYMONTH=1
TZNAME:+08
TZOFFSETFROM:+0900
TZOFFSETTO:+0800
END:STANDARD
END:VTIMEZONE
BEGIN:VEVENT
DESCRIPTION:\nEvent link: https://Hubud.spaces.nexudus.com/en/events/view/7
 63687148/entrepreneurial-think-thank--erhebung-com\n
DTEND;TZID=Asia/Singapore:20181128T133000
DTSTAMP:20260423T030812Z
DTSTART;TZID=Asia/Singapore:20181128T123000
LOCATION:Hubud
SEQUENCE:0
SUMMARY:Entrepreneurial Think Thank: erhebung.com
UID:bc21ad1e-da06-46c5-8f11-0f53bc148071
END:VEVENT
END:VCALENDAR
