BEGIN:VCALENDAR
PRODID:Nexudus
VERSION:2.0
BEGIN:VTIMEZONE
TZID:Asia/Singapore
X-LIC-LOCATION:Asia/Singapore
BEGIN:STANDARD
DTSTART:19820101T010000
RRULE:FREQ=YEARLY;BYDAY=1FR;BYMONTH=1
TZNAME:+08
TZOFFSETFROM:+0900
TZOFFSETTO:+0800
END:STANDARD
END:VTIMEZONE
BEGIN:VEVENT
DESCRIPTION:\nEvent link: https://Hubud.spaces.nexudus.com/en/events/view/8
 08285497/bali-bungkus---imagery-in-social-media-marketing\n
DTEND;TZID=Asia/Singapore:20190117T133000
DTSTAMP:20260422T222101Z
DTSTART;TZID=Asia/Singapore:20190117T123000
LOCATION:Hubud
SEQUENCE:0
SUMMARY:Bali Bungkus:  Imagery in Social Media Marketing
UID:d0d49eb0-5fbd-4ca9-94b3-1cfbcccbe740
END:VEVENT
END:VCALENDAR
