BEGIN:VCALENDAR
PRODID:Nexudus
VERSION:2.0
BEGIN:VTIMEZONE
TZID:Asia/Singapore
X-LIC-LOCATION:Asia/Singapore
BEGIN:STANDARD
DTSTART:19820101T010000
RRULE:FREQ=YEARLY;BYDAY=1FR;BYMONTH=1
TZNAME:+08
TZOFFSETFROM:+0900
TZOFFSETTO:+0800
END:STANDARD
END:VTIMEZONE
BEGIN:VEVENT
DESCRIPTION:\nEvent link: https://Hubud.spaces.nexudus.com/en/events/view/8
 21684880/treat-yourself-thursday--slowing-down-to-speed-up\n
DTEND;TZID=Asia/Singapore:20190228T170000
DTSTAMP:20260422T222109Z
DTSTART;TZID=Asia/Singapore:20190228T160000
LOCATION:Hubud
SEQUENCE:0
SUMMARY:Treat Yourself Thursday: Slowing Down to Speed Up
UID:b838650b-7575-43a5-8a89-d8bda9a2fe58
END:VEVENT
END:VCALENDAR
