BEGIN:VCALENDAR
PRODID:Nexudus
VERSION:2.0
BEGIN:VTIMEZONE
TZID:Asia/Singapore
X-LIC-LOCATION:Asia/Singapore
BEGIN:STANDARD
DTSTART:19820101T010000
RRULE:FREQ=YEARLY;BYDAY=1FR;BYMONTH=1
TZNAME:+08
TZOFFSETFROM:+0900
TZOFFSETTO:+0800
END:STANDARD
END:VTIMEZONE
BEGIN:VEVENT
DESCRIPTION:\nEvent link: https://Hubud.spaces.nexudus.com/en/events/view/9
 43686746/bali-bungkus--leading-with-emotional-intelligence\n
DTEND;TZID=Asia/Singapore:20190320T133000
DTSTAMP:20260423T012600Z
DTSTART;TZID=Asia/Singapore:20190320T123000
LOCATION:Hubud
SEQUENCE:0
SUMMARY:Bali Bungkus: Leading with Emotional Intelligence
UID:a77dada7-2562-44b1-b2a5-2904dfed471f
END:VEVENT
END:VCALENDAR
