BEGIN:VCALENDAR
PRODID:Nexudus
VERSION:2.0
BEGIN:VTIMEZONE
TZID:Asia/Singapore
X-LIC-LOCATION:Asia/Singapore
BEGIN:STANDARD
DTSTART:19820101T010000
RRULE:FREQ=YEARLY;BYDAY=1FR;BYMONTH=1
TZNAME:+08
TZOFFSETFROM:+0900
TZOFFSETTO:+0800
END:STANDARD
END:VTIMEZONE
BEGIN:VEVENT
DESCRIPTION:\nEvent link: https://Hubud.spaces.nexudus.com/en/events/view/9
 56957009/filmmakers-meet-up\n
DTEND;TZID=Asia/Singapore:20190315T200000
DTSTAMP:20260422T235208Z
DTSTART;TZID=Asia/Singapore:20190321T190000
LOCATION:Hubud
SEQUENCE:0
SUMMARY:Filmmakers Meet-Up
UID:0d8e63e2-b2ab-49f2-86e3-e8dceed2addf
END:VEVENT
END:VCALENDAR
