BEGIN:VCALENDAR
PRODID:Nexudus
VERSION:2.0
BEGIN:VTIMEZONE
TZID:Asia/Singapore
X-LIC-LOCATION:Asia/Singapore
BEGIN:STANDARD
DTSTART:19820101T010000
RRULE:FREQ=YEARLY;BYDAY=1FR;BYMONTH=1
TZNAME:+08
TZOFFSETFROM:+0900
TZOFFSETTO:+0800
END:STANDARD
END:VTIMEZONE
BEGIN:VEVENT
DESCRIPTION:\nEvent link: https://Hubud.spaces.nexudus.com/en/events/view/1
 006604696/skill-share--powerful-email-funnels-that-attract---convert-\n
DTEND;TZID=Asia/Singapore:20190515T183000
DTSTAMP:20260423T030719Z
DTSTART;TZID=Asia/Singapore:20190515T173000
LOCATION:Hubud
SEQUENCE:0
SUMMARY:Skill Share: Powerful Email Funnels that Attract & Convert!
UID:8824d692-5f64-407b-b916-acc71f0595f9
END:VEVENT
END:VCALENDAR
