BEGIN:VCALENDAR
PRODID:Nexudus
VERSION:2.0
BEGIN:VTIMEZONE
TZID:Asia/Singapore
X-LIC-LOCATION:Asia/Singapore
BEGIN:STANDARD
DTSTART:19820101T010000
RRULE:FREQ=YEARLY;BYDAY=1FR;BYMONTH=1
TZNAME:+08
TZOFFSETFROM:+0900
TZOFFSETTO:+0800
END:STANDARD
END:VTIMEZONE
BEGIN:VEVENT
DESCRIPTION:\nEvent link: https://Hubud.spaces.nexudus.com/en/events/view/1
 011892884/skillshare--think-through-solutions-faster-and-land-on-best-idea
 \n
DTEND;TZID=Asia/Singapore:20190513T183000
DTSTAMP:20260422T235346Z
DTSTART;TZID=Asia/Singapore:20190513T173000
LOCATION:Hubud
SEQUENCE:0
SUMMARY:SkillShare: Think Through Solutions Faster and Land on Best Idea
UID:3eee439d-5f0d-40d2-8aad-aa7f9502e3cb
END:VEVENT
END:VCALENDAR
