BEGIN:VCALENDAR
PRODID:Nexudus
VERSION:2.0
BEGIN:VTIMEZONE
TZID:Asia/Singapore
X-LIC-LOCATION:Asia/Singapore
BEGIN:STANDARD
DTSTART:19820101T010000
RRULE:FREQ=YEARLY;BYDAY=1FR;BYMONTH=1
TZNAME:+08
TZOFFSETFROM:+0900
TZOFFSETTO:+0800
END:STANDARD
END:VTIMEZONE
BEGIN:VEVENT
DESCRIPTION:\nEvent link: https://Hubud.spaces.nexudus.com/en/events/view/1
 083128052/skill-share--the-magic-of-behind-the-scenes\n
DTEND;TZID=Asia/Singapore:20190701T183000
DTSTAMP:20260422T222119Z
DTSTART;TZID=Asia/Singapore:20190701T173000
LOCATION:Hubud
SEQUENCE:0
SUMMARY:Skill Share: The Magic of Behind-the-Scenes
UID:9d96459f-7a71-49bc-9c52-e1a73c2bc1ba
END:VEVENT
END:VCALENDAR
