BEGIN:VCALENDAR
PRODID:Nexudus
VERSION:2.0
BEGIN:VTIMEZONE
TZID:Asia/Singapore
X-LIC-LOCATION:Asia/Singapore
BEGIN:STANDARD
DTSTART:19820101T010000
RRULE:FREQ=YEARLY;BYDAY=1FR;BYMONTH=1
TZNAME:+08
TZOFFSETFROM:+0900
TZOFFSETTO:+0800
END:STANDARD
END:VTIMEZONE
BEGIN:VEVENT
DESCRIPTION:\nEvent link: https://Hubud.spaces.nexudus.com/en/events/view/1
 106264227/skill-share--how-online-summits-fuel-up-your-coaching-business\n
DTEND;TZID=Asia/Singapore:20190725T183000
DTSTAMP:20260423T012658Z
DTSTART;TZID=Asia/Singapore:20190725T173000
LOCATION:Hubud
SEQUENCE:0
SUMMARY:Skill Share: How Online Summits Fuel-up Your Coaching Business
UID:186ff06c-9b41-4928-9dfa-723e8cb240c1
END:VEVENT
END:VCALENDAR
